BEGIN:VCALENDAR
VERSION:2.0
PRODID:-//East Grinstead Beekeepers Association - ECPv6.15.20//NONSGML v1.0//EN
CALSCALE:GREGORIAN
METHOD:PUBLISH
X-ORIGINAL-URL:https://egbka.org.uk
X-WR-CALDESC:Events for East Grinstead Beekeepers Association
REFRESH-INTERVAL;VALUE=DURATION:PT1H
X-Robots-Tag:noindex
X-PUBLISHED-TTL:PT1H
BEGIN:VTIMEZONE
TZID:Europe/London
BEGIN:DAYLIGHT
TZOFFSETFROM:+0000
TZOFFSETTO:+0100
TZNAME:BST
DTSTART:20240331T010000
END:DAYLIGHT
BEGIN:STANDARD
TZOFFSETFROM:+0100
TZOFFSETTO:+0000
TZNAME:GMT
DTSTART:20241027T010000
END:STANDARD
BEGIN:DAYLIGHT
TZOFFSETFROM:+0000
TZOFFSETTO:+0100
TZNAME:BST
DTSTART:20250330T010000
END:DAYLIGHT
BEGIN:STANDARD
TZOFFSETFROM:+0100
TZOFFSETTO:+0000
TZNAME:GMT
DTSTART:20251026T010000
END:STANDARD
BEGIN:DAYLIGHT
TZOFFSETFROM:+0000
TZOFFSETTO:+0100
TZNAME:BST
DTSTART:20260329T010000
END:DAYLIGHT
BEGIN:STANDARD
TZOFFSETFROM:+0100
TZOFFSETTO:+0000
TZNAME:GMT
DTSTART:20261025T010000
END:STANDARD
END:VTIMEZONE
BEGIN:VEVENT
DTSTART;TZID=Europe/London:20250809T130000
DTEND;TZID=Europe/London:20250809T150000
DTSTAMP:20260423T233727
CREATED:20250706T175330Z
LAST-MODIFIED:20250706T180418Z
UID:500-1754744400-1754751600@egbka.org.uk
SUMMARY:Apiary Meeting
DESCRIPTION:This is our regular monthly apiary meeting for members and people interested in becoming a beekeeper.
URL:https://egbka.org.uk/event-calendar/apiary-meeting-clone/
LOCATION:EGBKA Apiary\, Meridian Field\, Turners Hill Road\, Worth\, Crawley Down\, Crawley\, West Sussex\, RH10 4PE\, United Kingdom
CATEGORIES:Apiary Meetings,EGBKA Events
ORGANIZER;CN="Alastair Lee":MAILTO:chair@egbka.org.uk
END:VEVENT
BEGIN:VEVENT
DTSTART;TZID=Europe/London:20250720T100000
DTEND;TZID=Europe/London:20250720T120000
DTSTAMP:20260423T233727
CREATED:20250702T203745Z
LAST-MODIFIED:20250706T180418Z
UID:326-1753005600-1753012800@egbka.org.uk
SUMMARY:Apiary Meeting
DESCRIPTION:This is our regular monthly apiary meeting for members and people interested in becoming a beekeeper.
URL:https://egbka.org.uk/event-calendar/apiary-meeting/
LOCATION:EGBKA Apiary\, Meridian Field\, Turners Hill Road\, Worth\, Crawley Down\, Crawley\, West Sussex\, RH10 4PE\, United Kingdom
CATEGORIES:Apiary Meetings,EGBKA Events
ORGANIZER;CN="Alastair Lee":MAILTO:chair@egbka.org.uk
END:VEVENT
BEGIN:VEVENT
DTSTART;TZID=Europe/London:20250714T190000
DTEND;TZID=Europe/London:20250714T203000
DTSTAMP:20260423T233727
CREATED:20250702T205801Z
LAST-MODIFIED:20250706T180335Z
UID:335-1752519600-1752525000@egbka.org.uk
SUMMARY:Monthly Committee meeting and Social
DESCRIPTION:Our regular monthly committee meeting and social where we talk all things beekeeping
URL:https://egbka.org.uk/event-calendar/monthly-committee-meeting-and-social/
LOCATION:The Old Dunnings Mill\, Dunning's Rd\, East Grinstead\, RH19 4AT\, United Kingdom
CATEGORIES:Committee and Social,EGBKA Events
ORGANIZER;CN="Alastair Lee":MAILTO:chair@egbka.org.uk
END:VEVENT
END:VCALENDAR