BEGIN:VCALENDAR
VERSION:2.0
PRODID:-//East Grinstead Beekeepers Association - ECPv6.15.20//NONSGML v1.0//EN
CALSCALE:GREGORIAN
METHOD:PUBLISH
X-WR-CALNAME:East Grinstead Beekeepers Association
X-ORIGINAL-URL:https://egbka.org.uk
X-WR-CALDESC:Events for East Grinstead Beekeepers Association
REFRESH-INTERVAL;VALUE=DURATION:PT1H
X-Robots-Tag:noindex
X-PUBLISHED-TTL:PT1H
BEGIN:VTIMEZONE
TZID:Europe/London
BEGIN:DAYLIGHT
TZOFFSETFROM:+0000
TZOFFSETTO:+0100
TZNAME:BST
DTSTART:20240331T010000
END:DAYLIGHT
BEGIN:STANDARD
TZOFFSETFROM:+0100
TZOFFSETTO:+0000
TZNAME:GMT
DTSTART:20241027T010000
END:STANDARD
BEGIN:DAYLIGHT
TZOFFSETFROM:+0000
TZOFFSETTO:+0100
TZNAME:BST
DTSTART:20250330T010000
END:DAYLIGHT
BEGIN:STANDARD
TZOFFSETFROM:+0100
TZOFFSETTO:+0000
TZNAME:GMT
DTSTART:20251026T010000
END:STANDARD
BEGIN:DAYLIGHT
TZOFFSETFROM:+0000
TZOFFSETTO:+0100
TZNAME:BST
DTSTART:20260329T010000
END:DAYLIGHT
BEGIN:STANDARD
TZOFFSETFROM:+0100
TZOFFSETTO:+0000
TZNAME:GMT
DTSTART:20261025T010000
END:STANDARD
BEGIN:DAYLIGHT
TZOFFSETFROM:+0000
TZOFFSETTO:+0100
TZNAME:BST
DTSTART:20270328T010000
END:DAYLIGHT
BEGIN:STANDARD
TZOFFSETFROM:+0100
TZOFFSETTO:+0000
TZNAME:GMT
DTSTART:20271031T010000
END:STANDARD
END:VTIMEZONE
BEGIN:VEVENT
DTSTART;VALUE=DATE:20260307
DTEND;VALUE=DATE:20260308
DTSTAMP:20260423T173907
CREATED:20260122T201751Z
LAST-MODIFIED:20260122T201926Z
UID:1314-1772841600-1772927999@egbka.org.uk
SUMMARY:Sussex BKA Regional AGM
DESCRIPTION:Sussex regional annual general meeting being hosted by East Grinstead BKA.\nMorning presentation from Tom Bickerdike\, Regional Bee Inspector\, South East Region\, National Bee Unit talking about spring trapping of Yellow Legged (Asian) Hornets
URL:https://egbka.org.uk/event-calendar/sussex-bka-regional-agm/
LOCATION:Luxford Centre\, Library Way\, Uckfield\, West Sussex\, TN22 1AR\, United Kingdom
END:VEVENT
BEGIN:VEVENT
DTSTART;TZID=Europe/London:20260209T190000
DTEND;TZID=Europe/London:20260209T203000
DTSTAMP:20260423T173907
CREATED:20260106T173856Z
LAST-MODIFIED:20260106T173856Z
UID:1248-1770663600-1770669000@egbka.org.uk
SUMMARY:Monthly Committee Meeting and Social
DESCRIPTION:Our regular monthly committee meeting and social where we talk all things beekeeping
URL:https://egbka.org.uk/event-calendar/monthly-committee-meeting-and-social-6/
LOCATION:The Old Dunnings Mill\, Dunning's Rd\, East Grinstead\, RH19 4AT\, United Kingdom
CATEGORIES:Committee and Social,EGBKA Events
ORGANIZER;CN="Alastair Lee":MAILTO:chair@egbka.org.uk
END:VEVENT
BEGIN:VEVENT
DTSTART;TZID=Europe/London:20260112T190000
DTEND;TZID=Europe/London:20260112T203000
DTSTAMP:20260423T173907
CREATED:20260106T173708Z
LAST-MODIFIED:20260106T173708Z
UID:1244-1768244400-1768249800@egbka.org.uk
SUMMARY:Monthly Committee Meeting and Social
DESCRIPTION:Our regular monthly committee meeting and social where we talk all things beekeeping
URL:https://egbka.org.uk/event-calendar/monthly-committee-meeting-and-social-5/
LOCATION:The Old Dunnings Mill\, Dunning's Rd\, East Grinstead\, RH19 4AT\, United Kingdom
CATEGORIES:Committee and Social,EGBKA Events
ORGANIZER;CN="Alastair Lee":MAILTO:chair@egbka.org.uk
END:VEVENT
BEGIN:VEVENT
DTSTART;TZID=Europe/London:20251208T190000
DTEND;TZID=Europe/London:20251208T220000
DTSTAMP:20260423T173907
CREATED:20250719T140522Z
LAST-MODIFIED:20251020T135236Z
UID:706-1765220400-1765231200@egbka.org.uk
SUMMARY:Christmas Meal
DESCRIPTION:This is our annual Christmas meal. \nMenu attached: Two courses £30 or Three courses £38\, plus 10% service charge.
URL:https://egbka.org.uk/event-calendar/christmas-meal/
LOCATION:The Old Dunnings Mill\, Dunning's Rd\, East Grinstead\, RH19 4AT\, United Kingdom
CATEGORIES:Committee and Social,EGBKA Events
END:VEVENT
BEGIN:VEVENT
DTSTART;TZID=Europe/London:20251124T193000
DTEND;TZID=Europe/London:20251124T210000
DTSTAMP:20260423T173907
CREATED:20250904T091351Z
LAST-MODIFIED:20251016T144116Z
UID:1022-1764012600-1764018000@egbka.org.uk
SUMMARY:Queen Rearing with Andrew Gibb
DESCRIPTION:Evening talk and Q&A with Andrew Gibb looking at Queen Rearing \nAndrew Gibb is known for his contributions to beekeeping\, particularly in the areas of queen rearing and general apiary management\, with his work including titles like Bee Space to Bee Hive and booklets on topics such as the Morris Board Method of queen rearing. \nAll members are encouraged to attend as rearing queens locally ensures we have queens that are used to our environment and with a bit of selective breeding can lead to the development of good characteristics such as calmness and Varroa tolerance
URL:https://egbka.org.uk/event-calendar/queen-rearing-with-andrew-gibb/
LOCATION:Sunnyside Barn\, Dunning's Road\, East Grinstead\, RH19 4AT
CATEGORIES:EGBKA Events,Talks
END:VEVENT
BEGIN:VEVENT
DTSTART;TZID=Europe/London:20251110T190000
DTEND;TZID=Europe/London:20251110T203000
DTSTAMP:20260423T173907
CREATED:20250719T140158Z
LAST-MODIFIED:20251024T143117Z
UID:703-1762801200-1762806600@egbka.org.uk
SUMMARY:AGM and monthly committee meeting\social
DESCRIPTION:Our regular monthly committee meeting and social where we talk all things beekeeping
URL:https://egbka.org.uk/event-calendar/monthly-committee-meeting-and-social-4/
LOCATION:The Old Dunnings Mill\, Dunning's Rd\, East Grinstead\, RH19 4AT\, United Kingdom
CATEGORIES:Committee and Social,EGBKA Events
ORGANIZER;CN="Alastair Lee":MAILTO:chair@egbka.org.uk
END:VEVENT
BEGIN:VEVENT
DTSTART;VALUE=DATE:20251023
DTEND;VALUE=DATE:20251026
DTSTAMP:20260423T173907
CREATED:20250706T171709Z
LAST-MODIFIED:20250706T171709Z
UID:486-1761177600-1761436799@egbka.org.uk
SUMMARY:National Honey Show
DESCRIPTION:
URL:https://egbka.org.uk/event-calendar/national-honey-show/
LOCATION:Sandown Park\, Esher\, Surrey\, UK\, Sandown Park\,\, Esher\, Surrey\, United Kingdom
CATEGORIES:National Events
END:VEVENT
BEGIN:VEVENT
DTSTART;TZID=Europe/London:20251021T190000
DTEND;TZID=Europe/London:20251021T200000
DTSTAMP:20260423T173907
CREATED:20251014T202149Z
LAST-MODIFIED:20251014T202149Z
UID:1088-1761073200-1761076800@egbka.org.uk
SUMMARY:BBKA talk: "Tropilaelaps" with Maggie Gill
DESCRIPTION:Maggie Gill has been involved in beekeeping for 20 years\, producing queens and colonies on a small commercial scale and conducting research. As a senior scientist at Defra for the UK government\, her focus is on how agri-environment land management affects pollinators as a part of the Future Farming and Countryside Programme. Additionally\, Maggie spent 10 years working for the National Bee Unit as part of the UK governments bee health monitoring programme as both a seasonal and regional bee inspector.\nDriven by her passion for bees and environmental conservation\, Maggie has engaged in honey bee research\, examining pollinator nutrition\, as well as pests and diseases. Her collaborative efforts have spanned universities\, government departments\, and research institutes across Europe\, North America\, and Asia.\nZoom link: https://us06web.zoom.us/j/81233819992?pwd=DYMZxTImJjpRCLJjYjvbIxgybQQdSZ.1\nMeeting ID: 812 3381 9992 Passcode: 527929
URL:https://egbka.org.uk/event-calendar/bbka-talk-tropilaelaps-with-maggie-gill/
CATEGORIES:National Events
END:VEVENT
BEGIN:VEVENT
DTSTART;TZID=Europe/London:20251018T100000
DTEND;TZID=Europe/London:20251018T120000
DTSTAMP:20260423T173907
CREATED:20251003T125542Z
LAST-MODIFIED:20251003T125626Z
UID:1055-1760781600-1760788800@egbka.org.uk
SUMMARY:Apiary Meeting
DESCRIPTION:This is our last apiary meeting of the year where we will be finishing setting up the colonies for winter.
URL:https://egbka.org.uk/event-calendar/1055/
LOCATION:EGBKA Apiary\, Meridian Field\, Turners Hill Road\, Worth\, Crawley Down\, Crawley\, West Sussex\, RH10 4PE\, United Kingdom
CATEGORIES:Apiary Meetings,EGBKA Events
ORGANIZER;CN="Alastair Lee":MAILTO:chair@egbka.org.uk
END:VEVENT
BEGIN:VEVENT
DTSTART;TZID=Europe/London:20251013T190000
DTEND;TZID=Europe/London:20251013T203000
DTSTAMP:20260423T173907
CREATED:20250705T170310Z
LAST-MODIFIED:20260106T173543Z
UID:456-1760382000-1760387400@egbka.org.uk
SUMMARY:Monthly Committee meeting and Social
DESCRIPTION:Our regular monthly committee meeting and social where we talk all things beekeeping
URL:https://egbka.org.uk/event-calendar/monthly-committee-meeting-and-social-2/
LOCATION:The Old Dunnings Mill\, Dunning's Rd\, East Grinstead\, RH19 4AT\, United Kingdom
CATEGORIES:Committee and Social,EGBKA Events
ORGANIZER;CN="Alastair Lee":MAILTO:chair@egbka.org.uk
END:VEVENT
BEGIN:VEVENT
DTSTART;VALUE=DATE:20250927
DTEND;VALUE=DATE:20250929
DTSTAMP:20260423T173907
CREATED:20250812T091703Z
LAST-MODIFIED:20250812T091703Z
UID:928-1758931200-1759103999@egbka.org.uk
SUMMARY:South of England Honey Show
DESCRIPTION:
URL:https://egbka.org.uk/event-calendar/south-of-england-honey-show/
LOCATION:South of England Showground\, Selsfield Rd\,\, Haywards Heath\, West Sussex\, RH17 6TL\, United Kingdom
CATEGORIES:National Events
END:VEVENT
BEGIN:VEVENT
DTSTART;TZID=Europe/London:20250914T133000
DTEND;TZID=Europe/London:20250914T163000
DTSTAMP:20260423T173907
CREATED:20250706T180600Z
LAST-MODIFIED:20250814T105430Z
UID:506-1757856600-1757867400@egbka.org.uk
SUMMARY:Apiary Meeting
DESCRIPTION:This is the Apiary meeting where we welcome people who have attended the Taster Day.
URL:https://egbka.org.uk/event-calendar/apiary-meeting-2/
LOCATION:EGBKA Apiary\, Meridian Field\, Turners Hill Road\, Worth\, Crawley Down\, Crawley\, West Sussex\, RH10 4PE\, United Kingdom
CATEGORIES:Apiary Meetings,EGBKA Events
ORGANIZER;CN="Alastair Lee":MAILTO:chair@egbka.org.uk
END:VEVENT
BEGIN:VEVENT
DTSTART;TZID=Europe/London:20250914T083000
DTEND;TZID=Europe/London:20250914T160000
DTSTAMP:20260423T173907
CREATED:20250705T171109Z
LAST-MODIFIED:20250709T103219Z
UID:458-1757838600-1757865600@egbka.org.uk
SUMMARY:Beekeeping Taster Day
DESCRIPTION:Overview: \n\n\nMeet at 8:30 AM for a 9:00 AM start.\nFree parking on site.\nLunch & refreshments provided.\nDepart to our Apiary in Turners Hill around 2:00 PM.\nDay to finish around 4:00 PM.\n\n\nWhat we will cover: \n\n\nHoneybee biology and ecology.\nThe equipment you will need to keep bees.\nThe gadgets you can buy.\nThe pests and diseases to watch out for.\nThe flowers you can plant to help bees and other pollinators.\nWhere to get your own bees.\nChoosing a hive.\nManagement through the year.\nHands-on experience with a colony of bees\, at our apiary (weather permitting).\n\n\nBooking & preparation: \n\n\nCost (inclusive of booking fees) is £70\, or £90 including membership. Email Oliver St. John with any queries.\nWe can lend you a bee suit or bring your own; wear a long-sleeved top and trousers; Wellington boots; and a notepad & pen.\nOnly 20 spaces available.\nTo book visit our ticketsource page.
URL:https://egbka.org.uk/event-calendar/beekeeping-taster-day/
LOCATION:The Haven Centre\, Hophurst Lane\, Crawley Down\, RH10 4LJ\, United Kingdom
CATEGORIES:EGBKA Events,Local Events
END:VEVENT
BEGIN:VEVENT
DTSTART;TZID=Europe/London:20250908T190000
DTEND;TZID=Europe/London:20250908T203000
DTSTAMP:20260423T173907
CREATED:20250706T171956Z
LAST-MODIFIED:20250706T180255Z
UID:493-1757358000-1757363400@egbka.org.uk
SUMMARY:Monthly Committee meeting and Social
DESCRIPTION:Our regular monthly committee meeting and social where we talk all things beekeeping
URL:https://egbka.org.uk/event-calendar/monthly-committee-meeting-and-social-2-2/
LOCATION:The Old Dunnings Mill\, Dunning's Rd\, East Grinstead\, RH19 4AT\, United Kingdom
CATEGORIES:Committee and Social,EGBKA Events
ORGANIZER;CN="Alastair Lee":MAILTO:chair@egbka.org.uk
END:VEVENT
BEGIN:VEVENT
DTSTART;TZID=Europe/London:20250824T100000
DTEND;TZID=Europe/London:20250824T160000
DTSTAMP:20260423T173907
CREATED:20250814T110352Z
LAST-MODIFIED:20250814T110353Z
UID:979-1756029600-1756051200@egbka.org.uk
SUMMARY:Honey Extraction Day
DESCRIPTION:During the day we will look at the equipment needed to extract honey and assess their pros and cons. We will then use the equipment to extract the honey\, strain it into settling tanks\, full the honey jars and label them up. \n 
URL:https://egbka.org.uk/event-calendar/honey-extraction-day/
LOCATION:Springhill Farm\, Springhill Farm\, Weirwood\, Forest Row\, East Sussex\, RH18 5HT\, United Kingdom
CATEGORIES:EGBKA Events
ORGANIZER;CN="Alastair Lee":MAILTO:chair@egbka.org.uk
END:VEVENT
BEGIN:VEVENT
DTSTART;TZID=Europe/London:20250811T190000
DTEND;TZID=Europe/London:20250811T203000
DTSTAMP:20260423T173907
CREATED:20250706T171855Z
LAST-MODIFIED:20250706T180309Z
UID:491-1754938800-1754944200@egbka.org.uk
SUMMARY:Monthly Committee meeting and Social
DESCRIPTION:Our regular monthly committee meeting and social where we talk all things beekeeping
URL:https://egbka.org.uk/event-calendar/monthly-committee-meeting-and-social-3/
LOCATION:The Old Dunnings Mill\, Dunning's Rd\, East Grinstead\, RH19 4AT\, United Kingdom
CATEGORIES:Committee and Social,EGBKA Events
ORGANIZER;CN="Alastair Lee":MAILTO:chair@egbka.org.uk
END:VEVENT
BEGIN:VEVENT
DTSTART;TZID=Europe/London:20250809T130000
DTEND;TZID=Europe/London:20250809T150000
DTSTAMP:20260423T173907
CREATED:20250706T175330Z
LAST-MODIFIED:20250706T180418Z
UID:500-1754744400-1754751600@egbka.org.uk
SUMMARY:Apiary Meeting
DESCRIPTION:This is our regular monthly apiary meeting for members and people interested in becoming a beekeeper.
URL:https://egbka.org.uk/event-calendar/apiary-meeting-clone/
LOCATION:EGBKA Apiary\, Meridian Field\, Turners Hill Road\, Worth\, Crawley Down\, Crawley\, West Sussex\, RH10 4PE\, United Kingdom
CATEGORIES:Apiary Meetings,EGBKA Events
ORGANIZER;CN="Alastair Lee":MAILTO:chair@egbka.org.uk
END:VEVENT
BEGIN:VEVENT
DTSTART;TZID=Europe/London:20250720T100000
DTEND;TZID=Europe/London:20250720T120000
DTSTAMP:20260423T173907
CREATED:20250702T203745Z
LAST-MODIFIED:20250706T180418Z
UID:326-1753005600-1753012800@egbka.org.uk
SUMMARY:Apiary Meeting
DESCRIPTION:This is our regular monthly apiary meeting for members and people interested in becoming a beekeeper.
URL:https://egbka.org.uk/event-calendar/apiary-meeting/
LOCATION:EGBKA Apiary\, Meridian Field\, Turners Hill Road\, Worth\, Crawley Down\, Crawley\, West Sussex\, RH10 4PE\, United Kingdom
CATEGORIES:Apiary Meetings,EGBKA Events
ORGANIZER;CN="Alastair Lee":MAILTO:chair@egbka.org.uk
END:VEVENT
BEGIN:VEVENT
DTSTART;TZID=Europe/London:20250714T190000
DTEND;TZID=Europe/London:20250714T203000
DTSTAMP:20260423T173907
CREATED:20250702T205801Z
LAST-MODIFIED:20250706T180335Z
UID:335-1752519600-1752525000@egbka.org.uk
SUMMARY:Monthly Committee meeting and Social
DESCRIPTION:Our regular monthly committee meeting and social where we talk all things beekeeping
URL:https://egbka.org.uk/event-calendar/monthly-committee-meeting-and-social/
LOCATION:The Old Dunnings Mill\, Dunning's Rd\, East Grinstead\, RH19 4AT\, United Kingdom
CATEGORIES:Committee and Social,EGBKA Events
ORGANIZER;CN="Alastair Lee":MAILTO:chair@egbka.org.uk
END:VEVENT
END:VCALENDAR