BEGIN:VCALENDAR
VERSION:2.0
PRODID:-//East Grinstead Beekeepers Association - ECPv6.15.20//NONSGML v1.0//EN
CALSCALE:GREGORIAN
METHOD:PUBLISH
X-ORIGINAL-URL:https://egbka.org.uk
X-WR-CALDESC:Events for East Grinstead Beekeepers Association
REFRESH-INTERVAL;VALUE=DURATION:PT1H
X-Robots-Tag:noindex
X-PUBLISHED-TTL:PT1H
BEGIN:VTIMEZONE
TZID:Europe/London
BEGIN:DAYLIGHT
TZOFFSETFROM:+0000
TZOFFSETTO:+0100
TZNAME:BST
DTSTART:20250330T010000
END:DAYLIGHT
BEGIN:STANDARD
TZOFFSETFROM:+0100
TZOFFSETTO:+0000
TZNAME:GMT
DTSTART:20251026T010000
END:STANDARD
BEGIN:DAYLIGHT
TZOFFSETFROM:+0000
TZOFFSETTO:+0100
TZNAME:BST
DTSTART:20260329T010000
END:DAYLIGHT
BEGIN:STANDARD
TZOFFSETFROM:+0100
TZOFFSETTO:+0000
TZNAME:GMT
DTSTART:20261025T010000
END:STANDARD
BEGIN:DAYLIGHT
TZOFFSETFROM:+0000
TZOFFSETTO:+0100
TZNAME:BST
DTSTART:20270328T010000
END:DAYLIGHT
BEGIN:STANDARD
TZOFFSETFROM:+0100
TZOFFSETTO:+0000
TZNAME:GMT
DTSTART:20271031T010000
END:STANDARD
END:VTIMEZONE
BEGIN:VEVENT
DTSTART;TZID=Europe/London:20260425T130000
DTEND;TZID=Europe/London:20260425T150000
DTSTAMP:20260423T142908
CREATED:20251031T114725Z
LAST-MODIFIED:20251031T123324Z
UID:1116-1777122000-1777129200@egbka.org.uk
SUMMARY:Apiary Meeting
DESCRIPTION:This is our first apiary meeting of 2026 where we will hopefully do a first full inspection.
URL:https://egbka.org.uk/event-calendar/apiary-meeting-apr2026/
LOCATION:EGBKA Apiary\, Meridian Field\, Turners Hill Road\, Worth\, Crawley Down\, Crawley\, West Sussex\, RH10 4PE\, United Kingdom
CATEGORIES:Apiary Meetings,EGBKA Events
ORGANIZER;CN="Alastair Lee":MAILTO:chair@egbka.org.uk
END:VEVENT
BEGIN:VEVENT
DTSTART;TZID=Europe/London:20260509T090000
DTEND;TZID=Europe/London:20260509T163000
DTSTAMP:20260423T142908
CREATED:20251031T124108Z
LAST-MODIFIED:20251114T122150Z
UID:1161-1778317200-1778344200@egbka.org.uk
SUMMARY:Sussex Bee Market and Auction
DESCRIPTION:Sussex Bee Market and Auction
URL:https://egbka.org.uk/event-calendar/sussex-bee-market-and-auction/
LOCATION:Uckfield Community College\, Uckfield College\, Downsview Crescent\, Uckfield\, East Sussex\, TN22 3DJ
CATEGORIES:Local Events
END:VEVENT
BEGIN:VEVENT
DTSTART;TZID=Europe/London:20260510T100000
DTEND;TZID=Europe/London:20260510T120000
DTSTAMP:20260423T142908
CREATED:20251031T120854Z
LAST-MODIFIED:20251031T120854Z
UID:1124-1778407200-1778414400@egbka.org.uk
SUMMARY:Apiary Meeting
DESCRIPTION:Taster day preparation
URL:https://egbka.org.uk/event-calendar/apiary-meeting-4/
LOCATION:EGBKA Apiary\, Meridian Field\, Turners Hill Road\, Worth\, Crawley Down\, Crawley\, West Sussex\, RH10 4PE\, United Kingdom
CATEGORIES:Apiary Meetings,EGBKA Events
ORGANIZER;CN="Alastair Lee":MAILTO:chair@egbka.org.uk
END:VEVENT
BEGIN:VEVENT
DTSTART;TZID=Europe/London:20260511T190000
DTEND;TZID=Europe/London:20260511T203000
DTSTAMP:20260423T142908
CREATED:20260106T174208Z
LAST-MODIFIED:20260106T174208Z
UID:1260-1778526000-1778531400@egbka.org.uk
SUMMARY:Monthly Committee Meeting and Social
DESCRIPTION:Our regular monthly committee meeting and social where we talk all things beekeeping
URL:https://egbka.org.uk/event-calendar/monthly-committee-meeting-and-social-9/
LOCATION:The Old Dunnings Mill\, Dunning's Rd\, East Grinstead\, RH19 4AT\, United Kingdom
CATEGORIES:Committee and Social,EGBKA Events
ORGANIZER;CN="Alastair Lee":MAILTO:chair@egbka.org.uk
END:VEVENT
BEGIN:VEVENT
DTSTART;TZID=Europe/London:20260517T083000
DTEND;TZID=Europe/London:20260517T160000
DTSTAMP:20260423T142908
CREATED:20251031T093753Z
LAST-MODIFIED:20251204T145323Z
UID:1107-1779006600-1779033600@egbka.org.uk
SUMMARY:Beekeeping Taster Day 2026
DESCRIPTION:Overview: \n\n\nMeet at 8:30 AM for a 9:00 AM start.\nFree parking on site.\nLunch & refreshments provided.\nDepart to our Apiary in Turners Hill around 2:00 PM.\nDay to finish around 4:00 PM.\n\n\n  \n \n\nWhat we will cover: \n\n\nHoneybee biology and ecology.\nThe equipment you will need to keep bees.\nThe gadgets you can buy.\nThe pests and diseases to watch out for.\nThe flowers you can plant to help bees and other pollinators.\nWhere to get your own bees.\nChoosing a hive.\nManagement through the year.\nHands-on experience with a colony of bees\, at our apiary (weather permitting).\n\n\nBooking & preparation: \n\n\nCost (inclusive of booking fees) is £70\, or £90 including membership. Email Oliver St. John with any queries.\nWe can lend you a bee suit or bring your own; wear a long-sleeved top and trousers; Wellington boots; and bring a notepad & pen.\nOnly 20 spaces available.\nTo book visit our ticketsource page.
URL:https://egbka.org.uk/event-calendar/beekeeping-taster-day-2026/
LOCATION:The Haven Centre\, Hophurst Lane\, Crawley Down\, RH10 4LJ\, United Kingdom
CATEGORIES:EGBKA Events,Local Events
END:VEVENT
BEGIN:VEVENT
DTSTART;TZID=Europe/London:20260517T150000
DTEND;TZID=Europe/London:20260517T170000
DTSTAMP:20260423T142908
CREATED:20251031T114918Z
LAST-MODIFIED:20251031T123138Z
UID:1120-1779030000-1779037200@egbka.org.uk
SUMMARY:Apiary Meeting
DESCRIPTION:This apiary meeting hosts the people who have attended the Taster Day
URL:https://egbka.org.uk/event-calendar/apiary-meeting-may2026a/
LOCATION:EGBKA Apiary\, Meridian Field\, Turners Hill Road\, Worth\, Crawley Down\, Crawley\, West Sussex\, RH10 4PE\, United Kingdom
CATEGORIES:Apiary Meetings,EGBKA Events
ORGANIZER;CN="Alastair Lee":MAILTO:chair@egbka.org.uk
END:VEVENT
BEGIN:VEVENT
DTSTART;TZID=Europe/London:20260531T130000
DTEND;TZID=Europe/London:20260531T150000
DTSTAMP:20260423T142908
CREATED:20251031T121007Z
LAST-MODIFIED:20251031T123122Z
UID:1128-1780232400-1780239600@egbka.org.uk
SUMMARY:Apiary Meeting
DESCRIPTION:Apiary meeting looking at Swarm management and colony increase
URL:https://egbka.org.uk/event-calendar/apiary-meeting-may2026b/
LOCATION:EGBKA Apiary\, Meridian Field\, Turners Hill Road\, Worth\, Crawley Down\, Crawley\, West Sussex\, RH10 4PE\, United Kingdom
CATEGORIES:Apiary Meetings,EGBKA Events
ORGANIZER;CN="Alastair Lee":MAILTO:chair@egbka.org.uk
END:VEVENT
BEGIN:VEVENT
DTSTART;TZID=Europe/London:20260608T190000
DTEND;TZID=Europe/London:20260608T203000
DTSTAMP:20260423T142908
CREATED:20260106T174258Z
LAST-MODIFIED:20260106T174258Z
UID:1264-1780945200-1780950600@egbka.org.uk
SUMMARY:Monthly Committee Meeting and Social
DESCRIPTION:Our regular monthly committee meeting and social where we talk all things beekeeping
URL:https://egbka.org.uk/event-calendar/monthly-committee-meeting-and-social-10/
LOCATION:The Old Dunnings Mill\, Dunning's Rd\, East Grinstead\, RH19 4AT\, United Kingdom
CATEGORIES:Committee and Social,EGBKA Events
ORGANIZER;CN="Alastair Lee":MAILTO:chair@egbka.org.uk
END:VEVENT
BEGIN:VEVENT
DTSTART;TZID=Europe/London:20260613T100000
DTEND;TZID=Europe/London:20260613T120000
DTSTAMP:20260423T142908
CREATED:20251031T121119Z
LAST-MODIFIED:20251031T123041Z
UID:1132-1781344800-1781352000@egbka.org.uk
SUMMARY:Apiary Meeting
DESCRIPTION:Swarm management and colony increase
URL:https://egbka.org.uk/event-calendar/apiary-meeting-june2026a/
LOCATION:EGBKA Apiary\, Meridian Field\, Turners Hill Road\, Worth\, Crawley Down\, Crawley\, West Sussex\, RH10 4PE\, United Kingdom
CATEGORIES:Apiary Meetings,EGBKA Events
ORGANIZER;CN="Alastair Lee":MAILTO:chair@egbka.org.uk
END:VEVENT
BEGIN:VEVENT
DTSTART;TZID=Europe/London:20260628T130000
DTEND;TZID=Europe/London:20260628T150000
DTSTAMP:20260423T142908
CREATED:20251031T121353Z
LAST-MODIFIED:20251031T123051Z
UID:1136-1782651600-1782658800@egbka.org.uk
SUMMARY:Apiary Meeting
DESCRIPTION:Swarm management and colony increase
URL:https://egbka.org.uk/event-calendar/apiary-meeting-june2026b/
LOCATION:EGBKA Apiary\, Meridian Field\, Turners Hill Road\, Worth\, Crawley Down\, Crawley\, West Sussex\, RH10 4PE\, United Kingdom
CATEGORIES:Apiary Meetings,EGBKA Events
ORGANIZER;CN="Alastair Lee":MAILTO:chair@egbka.org.uk
END:VEVENT
BEGIN:VEVENT
DTSTART;TZID=Europe/London:20260711T130000
DTEND;TZID=Europe/London:20260711T150000
DTSTAMP:20260423T142908
CREATED:20251031T121505Z
LAST-MODIFIED:20251031T122649Z
UID:1140-1783774800-1783782000@egbka.org.uk
SUMMARY:Apiary Meeting
DESCRIPTION:Summer and initial winter preparation
URL:https://egbka.org.uk/event-calendar/apiary-meeting-july2026/
LOCATION:EGBKA Apiary\, Meridian Field\, Turners Hill Road\, Worth\, Crawley Down\, Crawley\, West Sussex\, RH10 4PE\, United Kingdom
CATEGORIES:Apiary Meetings,EGBKA Events
ORGANIZER;CN="Alastair Lee":MAILTO:chair@egbka.org.uk
END:VEVENT
BEGIN:VEVENT
DTSTART;TZID=Europe/London:20260713T190000
DTEND;TZID=Europe/London:20260713T203000
DTSTAMP:20260423T142908
CREATED:20260106T174352Z
LAST-MODIFIED:20260106T174352Z
UID:1268-1783969200-1783974600@egbka.org.uk
SUMMARY:Monthly Committee Meeting and Social
DESCRIPTION:Our regular monthly committee meeting and social where we talk all things beekeeping
URL:https://egbka.org.uk/event-calendar/monthly-committee-meeting-and-social-11/
LOCATION:The Old Dunnings Mill\, Dunning's Rd\, East Grinstead\, RH19 4AT\, United Kingdom
CATEGORIES:Committee and Social,EGBKA Events
ORGANIZER;CN="Alastair Lee":MAILTO:chair@egbka.org.uk
END:VEVENT
BEGIN:VEVENT
DTSTART;TZID=Europe/London:20260810T190000
DTEND;TZID=Europe/London:20260810T200000
DTSTAMP:20260423T142908
CREATED:20260106T174517Z
LAST-MODIFIED:20260106T174517Z
UID:1272-1786388400-1786392000@egbka.org.uk
SUMMARY:Monthly Committee Meeting and Social
DESCRIPTION:Our regular monthly committee meeting and social where we talk all things beekeeping
URL:https://egbka.org.uk/event-calendar/monthly-committee-meeting-and-social-12/
LOCATION:The Old Dunnings Mill\, Dunning's Rd\, East Grinstead\, RH19 4AT\, United Kingdom
ORGANIZER;CN="Alastair Lee":MAILTO:chair@egbka.org.uk
END:VEVENT
BEGIN:VEVENT
DTSTART;TZID=Europe/London:20260815T130000
DTEND;TZID=Europe/London:20260815T150000
DTSTAMP:20260423T142908
CREATED:20251031T121750Z
LAST-MODIFIED:20251031T122634Z
UID:1144-1786798800-1786806000@egbka.org.uk
SUMMARY:Apiary Meeting
DESCRIPTION:Selection of supers for extraction
URL:https://egbka.org.uk/event-calendar/apiary-meeting-aug2026/
LOCATION:EGBKA Apiary\, Meridian Field\, Turners Hill Road\, Worth\, Crawley Down\, Crawley\, West Sussex\, RH10 4PE\, United Kingdom
CATEGORIES:Apiary Meetings,EGBKA Events
ORGANIZER;CN="Alastair Lee":MAILTO:chair@egbka.org.uk
END:VEVENT
BEGIN:VEVENT
DTSTART;TZID=Europe/London:20260830T100000
DTEND;TZID=Europe/London:20260830T170000
DTSTAMP:20260423T142908
CREATED:20251031T122034Z
LAST-MODIFIED:20251031T122509Z
UID:1148-1788084000-1788109200@egbka.org.uk
SUMMARY:Honey Extraction Day
DESCRIPTION:We will work through the process of uncapping the frames\, extracting the honey\, filtering\, jarring and labelling the honey. \nWe will have a a variety of tools available to try different approaches.
URL:https://egbka.org.uk/event-calendar/honey-extraction-day-2026/
LOCATION:Springhill Farm\, Springhill Farm\, Weirwood\, Forest Row\, East Sussex\, RH18 5HT\, United Kingdom
CATEGORIES:Apiary Meetings,EGBKA Events
ORGANIZER;CN="Alastair Lee":MAILTO:chair@egbka.org.uk
END:VEVENT
BEGIN:VEVENT
DTSTART;TZID=Europe/London:20260913T130000
DTEND;TZID=Europe/London:20260913T150000
DTSTAMP:20260423T142908
CREATED:20251031T122233Z
LAST-MODIFIED:20251031T122617Z
UID:1152-1789304400-1789311600@egbka.org.uk
SUMMARY:Apiary Meeting
DESCRIPTION:Winter preparation and Varroa treatment (if needed)
URL:https://egbka.org.uk/event-calendar/apiary-meeting-sept2026/
LOCATION:EGBKA Apiary\, Meridian Field\, Turners Hill Road\, Worth\, Crawley Down\, Crawley\, West Sussex\, RH10 4PE\, United Kingdom
CATEGORIES:Apiary Meetings,EGBKA Events
ORGANIZER;CN="Alastair Lee":MAILTO:chair@egbka.org.uk
END:VEVENT
BEGIN:VEVENT
DTSTART;TZID=Europe/London:20260914T190000
DTEND;TZID=Europe/London:20260914T203000
DTSTAMP:20260423T142908
CREATED:20260106T174613Z
LAST-MODIFIED:20260106T174613Z
UID:1276-1789412400-1789417800@egbka.org.uk
SUMMARY:Monthly Committee Meeting and Social
DESCRIPTION:Our regular monthly committee meeting and social where we talk all things beekeeping
URL:https://egbka.org.uk/event-calendar/monthly-committee-meeting-and-social-13/
LOCATION:The Old Dunnings Mill\, Dunning's Rd\, East Grinstead\, RH19 4AT\, United Kingdom
CATEGORIES:Committee and Social,EGBKA Events
ORGANIZER;CN="Alastair Lee":MAILTO:chair@egbka.org.uk
END:VEVENT
BEGIN:VEVENT
DTSTART;TZID=Europe/London:20261010T130000
DTEND;TZID=Europe/London:20261010T150000
DTSTAMP:20260423T142908
CREATED:20251031T122411Z
LAST-MODIFIED:20251031T122601Z
UID:1156-1791637200-1791644400@egbka.org.uk
SUMMARY:Apiary Meeting
DESCRIPTION:Winter preparation
URL:https://egbka.org.uk/event-calendar/apiary-meeting-oct2026/
LOCATION:EGBKA Apiary\, Meridian Field\, Turners Hill Road\, Worth\, Crawley Down\, Crawley\, West Sussex\, RH10 4PE\, United Kingdom
CATEGORIES:Apiary Meetings,EGBKA Events
ORGANIZER;CN="Alastair Lee":MAILTO:chair@egbka.org.uk
END:VEVENT
BEGIN:VEVENT
DTSTART;TZID=Europe/London:20261012T190000
DTEND;TZID=Europe/London:20261012T203000
DTSTAMP:20260423T142908
CREATED:20260106T174709Z
LAST-MODIFIED:20260106T174709Z
UID:1280-1791831600-1791837000@egbka.org.uk
SUMMARY:Monthly Committee Meeting and Social
DESCRIPTION:Our regular monthly committee meeting and social where we talk all things beekeeping
URL:https://egbka.org.uk/event-calendar/monthly-committee-meeting-and-social-14/
LOCATION:The Old Dunnings Mill\, Dunning's Rd\, East Grinstead\, RH19 4AT\, United Kingdom
CATEGORIES:Committee and Social,EGBKA Events
ORGANIZER;CN="Alastair Lee":MAILTO:chair@egbka.org.uk
END:VEVENT
BEGIN:VEVENT
DTSTART;TZID=Europe/London:20261109T190000
DTEND;TZID=Europe/London:20261109T203000
DTSTAMP:20260423T142908
CREATED:20260106T174819Z
LAST-MODIFIED:20260106T174819Z
UID:1284-1794250800-1794256200@egbka.org.uk
SUMMARY:Monthly Committee Meeting and Social
DESCRIPTION:Our regular monthly committee meeting and social where we talk all things beekeeping
URL:https://egbka.org.uk/event-calendar/monthly-committee-meeting-and-social-15/
LOCATION:The Old Dunnings Mill\, Dunning's Rd\, East Grinstead\, RH19 4AT\, United Kingdom
CATEGORIES:Committee and Social,EGBKA Events
ORGANIZER;CN="Alastair Lee":MAILTO:chair@egbka.org.uk
END:VEVENT
BEGIN:VEVENT
DTSTART;TZID=Europe/London:20261214T190000
DTEND;TZID=Europe/London:20261214T220000
DTSTAMP:20260423T142908
CREATED:20260106T174938Z
LAST-MODIFIED:20260106T174938Z
UID:1288-1797274800-1797285600@egbka.org.uk
SUMMARY:Christmas Meal
DESCRIPTION:Our annual Christmas meal.
URL:https://egbka.org.uk/event-calendar/christmas-meal-2/
LOCATION:The Old Dunnings Mill\, Dunning's Rd\, East Grinstead\, RH19 4AT\, United Kingdom
CATEGORIES:Committee and Social,EGBKA Events
END:VEVENT
END:VCALENDAR