BEGIN:VCALENDAR
VERSION:2.0
PRODID:-//East Grinstead Beekeepers Association - ECPv6.15.20//NONSGML v1.0//EN
CALSCALE:GREGORIAN
METHOD:PUBLISH
X-WR-CALNAME:East Grinstead Beekeepers Association
X-ORIGINAL-URL:https://egbka.org.uk
X-WR-CALDESC:Events for East Grinstead Beekeepers Association
REFRESH-INTERVAL;VALUE=DURATION:PT1H
X-Robots-Tag:noindex
X-PUBLISHED-TTL:PT1H
BEGIN:VTIMEZONE
TZID:Europe/London
BEGIN:DAYLIGHT
TZOFFSETFROM:+0000
TZOFFSETTO:+0100
TZNAME:BST
DTSTART:20240331T010000
END:DAYLIGHT
BEGIN:STANDARD
TZOFFSETFROM:+0100
TZOFFSETTO:+0000
TZNAME:GMT
DTSTART:20241027T010000
END:STANDARD
BEGIN:DAYLIGHT
TZOFFSETFROM:+0000
TZOFFSETTO:+0100
TZNAME:BST
DTSTART:20250330T010000
END:DAYLIGHT
BEGIN:STANDARD
TZOFFSETFROM:+0100
TZOFFSETTO:+0000
TZNAME:GMT
DTSTART:20251026T010000
END:STANDARD
BEGIN:DAYLIGHT
TZOFFSETFROM:+0000
TZOFFSETTO:+0100
TZNAME:BST
DTSTART:20260329T010000
END:DAYLIGHT
BEGIN:STANDARD
TZOFFSETFROM:+0100
TZOFFSETTO:+0000
TZNAME:GMT
DTSTART:20261025T010000
END:STANDARD
END:VTIMEZONE
BEGIN:VEVENT
DTSTART;VALUE=DATE:20251023
DTEND;VALUE=DATE:20251026
DTSTAMP:20260423T123511
CREATED:20250706T171709Z
LAST-MODIFIED:20250706T171709Z
UID:486-1761177600-1761436799@egbka.org.uk
SUMMARY:National Honey Show
DESCRIPTION:
URL:https://egbka.org.uk/event-calendar/national-honey-show/
LOCATION:Sandown Park\, Esher\, Surrey\, UK\, Sandown Park\,\, Esher\, Surrey\, United Kingdom
CATEGORIES:National Events
END:VEVENT
BEGIN:VEVENT
DTSTART;TZID=Europe/London:20251021T190000
DTEND;TZID=Europe/London:20251021T200000
DTSTAMP:20260423T123511
CREATED:20251014T202149Z
LAST-MODIFIED:20251014T202149Z
UID:1088-1761073200-1761076800@egbka.org.uk
SUMMARY:BBKA talk: "Tropilaelaps" with Maggie Gill
DESCRIPTION:Maggie Gill has been involved in beekeeping for 20 years\, producing queens and colonies on a small commercial scale and conducting research. As a senior scientist at Defra for the UK government\, her focus is on how agri-environment land management affects pollinators as a part of the Future Farming and Countryside Programme. Additionally\, Maggie spent 10 years working for the National Bee Unit as part of the UK governments bee health monitoring programme as both a seasonal and regional bee inspector.\nDriven by her passion for bees and environmental conservation\, Maggie has engaged in honey bee research\, examining pollinator nutrition\, as well as pests and diseases. Her collaborative efforts have spanned universities\, government departments\, and research institutes across Europe\, North America\, and Asia.\nZoom link: https://us06web.zoom.us/j/81233819992?pwd=DYMZxTImJjpRCLJjYjvbIxgybQQdSZ.1\nMeeting ID: 812 3381 9992 Passcode: 527929
URL:https://egbka.org.uk/event-calendar/bbka-talk-tropilaelaps-with-maggie-gill/
CATEGORIES:National Events
END:VEVENT
BEGIN:VEVENT
DTSTART;VALUE=DATE:20250927
DTEND;VALUE=DATE:20250929
DTSTAMP:20260423T123511
CREATED:20250812T091703Z
LAST-MODIFIED:20250812T091703Z
UID:928-1758931200-1759103999@egbka.org.uk
SUMMARY:South of England Honey Show
DESCRIPTION:
URL:https://egbka.org.uk/event-calendar/south-of-england-honey-show/
LOCATION:South of England Showground\, Selsfield Rd\,\, Haywards Heath\, West Sussex\, RH17 6TL\, United Kingdom
CATEGORIES:National Events
END:VEVENT
END:VCALENDAR